BEGIN:VCALENDAR
VERSION:2.0
PRODID:-//North River Sing - ECPv6.15.20//NONSGML v1.0//EN
CALSCALE:GREGORIAN
METHOD:PUBLISH
X-ORIGINAL-URL:https://northriversing.org
X-WR-CALDESC:Events for North River Sing
REFRESH-INTERVAL;VALUE=DURATION:PT1H
X-Robots-Tag:noindex
X-PUBLISHED-TTL:PT1H
BEGIN:VTIMEZONE
TZID:America/New_York
BEGIN:DAYLIGHT
TZOFFSETFROM:-0500
TZOFFSETTO:-0400
TZNAME:EDT
DTSTART:20240310T070000
END:DAYLIGHT
BEGIN:STANDARD
TZOFFSETFROM:-0400
TZOFFSETTO:-0500
TZNAME:EST
DTSTART:20241103T060000
END:STANDARD
BEGIN:DAYLIGHT
TZOFFSETFROM:-0500
TZOFFSETTO:-0400
TZNAME:EDT
DTSTART:20250309T070000
END:DAYLIGHT
BEGIN:STANDARD
TZOFFSETFROM:-0400
TZOFFSETTO:-0500
TZNAME:EST
DTSTART:20251102T060000
END:STANDARD
BEGIN:DAYLIGHT
TZOFFSETFROM:-0500
TZOFFSETTO:-0400
TZNAME:EDT
DTSTART:20260308T070000
END:DAYLIGHT
BEGIN:STANDARD
TZOFFSETFROM:-0400
TZOFFSETTO:-0500
TZNAME:EST
DTSTART:20261101T060000
END:STANDARD
END:VTIMEZONE
BEGIN:VEVENT
DTSTART;TZID=America/New_York:20250608T160000
DTEND;TZID=America/New_York:20250608T180000
DTSTAMP:20260421T075218
CREATED:20250508T121957Z
LAST-MODIFIED:20250604T210615Z
UID:2580-1749398400-1749405600@northriversing.org
SUMMARY:2025 Spring Concert for Pride
DESCRIPTION:Add to calendar	\n		\n	\n\n		\n			\n									\n	Google Calendar\n\n									\n	iCalendar\n\n									\n	Outlook 365\n\n									\n	Outlook Live\n\n							\n		\n\n		\n	\n\n				\n				\n				\n		\n				\n				\n					\n	NRS at Hamilton Parkfest 2026				\n				\n				\n				\n					\n		\n			June 13\n\n	\n\n	  @  \n\n\n2:00 pm\n\n		\n\n\n\n	\n	  -  \n\n3:00 pm\n\n\n\n	\n				\n				\n				\n				\n									North River Sing will again take the stage at the annual Groove on Grove music showcase with a preview of our spring repertoire.  We look forward to seeing you there! 								\n				\n				\n				\n					\n				\n				\n	\n	Hamilton Park\n	\n	\n\n\n	Jersey City\,\n\n\n	07302\n\n\n\n\n\n	+ Google Map
URL:https://northriversing.org/event/2025-spring-concert-for-pride/
LOCATION:White Eagle Hall\, 337 Newark Ave\, Jersey City\, NJ\, 07302\, United States
CATEGORIES:Concerts
ATTACH;FMTTYPE=image/png:https://northriversing.org/wp-content/uploads/2025/05/Color-Flyer.png
END:VEVENT
BEGIN:VEVENT
DTSTART;TZID=America/New_York:20250611T200000
DTEND;TZID=America/New_York:20250611T210000
DTSTAMP:20260421T075218
CREATED:20250508T124317Z
LAST-MODIFIED:20250508T124317Z
UID:2584-1749672000-1749675600@northriversing.org
SUMMARY:North River Sing at Groove on Grove
DESCRIPTION:Add to calendar	\n		\n	\n\n		\n			\n									\n	Google Calendar\n\n									\n	iCalendar\n\n									\n	Outlook 365\n\n									\n	Outlook Live\n\n							\n		\n\n		\n	\n\n				\n				\n				\n		\n				\n				\n					\n	NRS at Hamilton Parkfest 2026				\n				\n				\n				\n					\n		\n			June 13\n\n	\n\n	  @  \n\n\n2:00 pm\n\n		\n\n\n\n	\n	  -  \n\n3:00 pm\n\n\n\n	\n				\n				\n				\n				\n									North River Sing will again take the stage at the annual Groove on Grove music showcase with a preview of our spring repertoire.  We look forward to seeing you there! 								\n				\n				\n				\n					\n				\n				\n	\n	Hamilton Park\n	\n	\n\n\n	Jersey City\,\n\n\n	07302\n\n\n\n\n\n	+ Google Map
URL:https://northriversing.org/event/north-river-sing-at-groove-on-grove/
LOCATION:Grove Street Path Plaza\, Jersey City\, NJ\, 07302\, United States
CATEGORIES:Concerts
ATTACH;FMTTYPE=image/jpeg:https://northriversing.org/wp-content/uploads/2025/05/Groove.jpg
END:VEVENT
BEGIN:VEVENT
DTSTART;TZID=America/New_York:20250614T130000
DTEND;TZID=America/New_York:20250614T140000
DTSTAMP:20260421T075218
CREATED:20250508T125004Z
LAST-MODIFIED:20250508T125004Z
UID:2586-1749906000-1749909600@northriversing.org
SUMMARY:North River Sing at Hamilton Parkfest 2025
DESCRIPTION:Add to calendar	\n		\n	\n\n		\n			\n									\n	Google Calendar\n\n									\n	iCalendar\n\n									\n	Outlook 365\n\n									\n	Outlook Live\n\n							\n		\n\n		\n	\n\n				\n				\n				\n		\n				\n				\n					\n	NRS at Hamilton Parkfest 2026				\n				\n				\n				\n					\n		\n			June 13\n\n	\n\n	  @  \n\n\n2:00 pm\n\n		\n\n\n\n	\n	  -  \n\n3:00 pm\n\n\n\n	\n				\n				\n				\n				\n									North River Sing will again take the stage at the annual Groove on Grove music showcase with a preview of our spring repertoire.  We look forward to seeing you there! 								\n				\n				\n				\n					\n				\n				\n	\n	Hamilton Park\n	\n	\n\n\n	Jersey City\,\n\n\n	07302\n\n\n\n\n\n	+ Google Map
URL:https://northriversing.org/event/north-river-sing-at-hamilton-parkfest-2025/
LOCATION:Hamilton Park\, Jersey City\, 07302
CATEGORIES:Concerts
END:VEVENT
END:VCALENDAR