BEGIN:VCALENDAR
VERSION:2.0
PRODID:-//North River Sing - ECPv6.15.20//NONSGML v1.0//EN
CALSCALE:GREGORIAN
METHOD:PUBLISH
X-WR-CALNAME:North River Sing
X-ORIGINAL-URL:https://northriversing.org
X-WR-CALDESC:Events for North River Sing
REFRESH-INTERVAL;VALUE=DURATION:PT1H
X-Robots-Tag:noindex
X-PUBLISHED-TTL:PT1H
BEGIN:VTIMEZONE
TZID:UTC
BEGIN:STANDARD
TZOFFSETFROM:+0000
TZOFFSETTO:+0000
TZNAME:UTC
DTSTART:20210101T000000
END:STANDARD
END:VTIMEZONE
BEGIN:VEVENT
DTSTART;TZID=UTC:20230611T160000
DTEND;TZID=UTC:20230611T180000
DTSTAMP:20260422T070540
CREATED:20230516T193758Z
LAST-MODIFIED:20230519T223045Z
UID:2121-1686499200-1686506400@northriversing.org
SUMMARY:NRS Concert in McGinley Square\, Spring 2023
DESCRIPTION:Wine and cheese reception to follow. North River Sing is a non-profit community chorus. Suggested donation for the concert is $20.00 (all are welcome regardless). \nIf you are unable to make the concert in person\, check out the concert link for live-streaming options!
URL:https://northriversing.org/event/spring-concert-2023/
LOCATION:The Church of St. Paul and Incarnation\, 38 Duncan Ave.\, Jersey City\, 07304
CATEGORIES:Concerts
END:VEVENT
BEGIN:VEVENT
DTSTART;TZID=UTC:20230610T130000
DTEND;TZID=UTC:20230610T140000
DTSTAMP:20260422T070540
CREATED:20230516T195333Z
LAST-MODIFIED:20230516T201526Z
UID:2124-1686402000-1686405600@northriversing.org
SUMMARY:NRS Spring Concert Series: Hamilton Park
DESCRIPTION:
URL:https://northriversing.org/event/nrs-spring-concert-series-hamilton-park/
LOCATION:Hamilton Park\, Jersey City\, 07302
CATEGORIES:Concerts
END:VEVENT
BEGIN:VEVENT
DTSTART;TZID=UTC:20230305T150000
DTEND;TZID=UTC:20230305T163000
DTSTAMP:20260422T070540
CREATED:20230213T194615Z
LAST-MODIFIED:20230213T194615Z
UID:2054-1678028400-1678033800@northriversing.org
SUMMARY:Winter Concert 2023 - New York City
DESCRIPTION:Please note all singers will have tested negative for Covid-19. Audience members must wear masks during the performance for the safety of everyone. \nNorth River Sing is a non-profit community chorus. Suggested donation for the concert is $20.00. \nIf you are unable to make the concert in person\, check out the concert link for live-streaming options!
URL:https://northriversing.org/event/winter-concert-2023-new-york-city/
LOCATION:St. John’s in the Village Episcopal Church\, 218 W 11th Street\, New York\, NY\, 10014\, United States
CATEGORIES:Concerts
END:VEVENT
BEGIN:VEVENT
DTSTART;TZID=UTC:20230211T190000
DTEND;TZID=UTC:20230211T210000
DTSTAMP:20260422T070540
CREATED:20230109T023218Z
LAST-MODIFIED:20230122T224537Z
UID:2038-1676142000-1676149200@northriversing.org
SUMMARY:Winter Concert 2023
DESCRIPTION:
URL:https://northriversing.org/event/winter-concert-2023/
LOCATION:Mt. Pisgah AME Church\, 354 Forrest
CATEGORIES:Concerts
END:VEVENT
BEGIN:VEVENT
DTSTART;TZID=UTC:20230129T150000
DTEND;TZID=UTC:20230129T180000
DTSTAMP:20260422T070540
CREATED:20230107T050827Z
LAST-MODIFIED:20230118T061556Z
UID:2032-1675004400-1675015200@northriversing.org
SUMMARY:Auditions for Spring 2023
DESCRIPTION:Love to sing? Auditions for North River Sing are being held Sunday\, January 29 from 3 to 6 PM. Email our artistic director at ConradChu@Gmail.com to reserve your audition time! \nLearn more about auditions here.
URL:https://northriversing.org/event/auditions-for-spring-2023/
LOCATION:St Matthews Lutheran Church\, 85 Wayne St\, Jersey City\, NJ\, 07302\, United States
CATEGORIES:Auditions
END:VEVENT
BEGIN:VEVENT
DTSTART;TZID=UTC:20230122T160000
DTEND;TZID=UTC:20230122T180000
DTSTAMP:20260422T070540
CREATED:20230109T022954Z
LAST-MODIFIED:20230122T224612Z
UID:2036-1674403200-1674410400@northriversing.org
SUMMARY:Winter Concert 2023 - POSTPONED
DESCRIPTION:We are sorry to report that the North River Sing concert this weekend\, on 1/22 has been postponed due to a number of chorus members testing positive for Covid. We are actively looking into a new date and will share that information soon.
URL:https://northriversing.org/event/2036/
LOCATION:St Matthews Lutheran Church\, 85 Wayne St\, Jersey City\, NJ\, 07302\, United States
CATEGORIES:Concerts
END:VEVENT
BEGIN:VEVENT
DTSTART;TZID=UTC:20220612T160000
DTEND;TZID=UTC:20220612T180000
DTSTAMP:20260422T070540
CREATED:20221013T205859Z
LAST-MODIFIED:20221013T205859Z
UID:1801-1655049600-1655056800@northriversing.org
SUMMARY:2022 Spring Concert
DESCRIPTION:Come hear us sing! \nTickets: $20 (suggested) at the door \nNote: Due to the pandemic\, all singers will have tested negative for Covid-19 within 24 hours of the concert; proof of vaccination and masks will be required to attend the concert.
URL:https://northriversing.org/event/2022-spring-concert/
LOCATION:St Matthews Lutheran Church\, 85 Wayne St\, Jersey City\, NJ\, 07302\, United States
CATEGORIES:Concerts
END:VEVENT
BEGIN:VEVENT
DTSTART;TZID=UTC:20220610T193000
DTEND;TZID=UTC:20220610T213000
DTSTAMP:20260422T070540
CREATED:20221010T045113Z
LAST-MODIFIED:20221013T211017Z
UID:1690-1654889400-1654896600@northriversing.org
SUMMARY:2022 Spring Concert at St. John’s in the Village Episcopal Church
DESCRIPTION:Come hear us sing (or watch us virtually)!\n\n\nNote: Tickets will be sold at the door but advance ticket purchase is highly recommended since seating is limited. Virtual tickets are also available.  \nDue to the pandemic\, all singers will have tested negative for Covid-19 within 24 hours of the concert; proof of vaccination and masks will be required to attend the concert.
URL:https://northriversing.org/event/1690/
LOCATION:St. John’s in the Village Episcopal Church\, 218 W 11th Street\, New York\, NY\, 10014\, United States
CATEGORIES:Concerts
END:VEVENT
END:VCALENDAR