BEGIN:VCALENDAR
VERSION:2.0
PRODID:-//North River Sing - ECPv6.15.20//NONSGML v1.0//EN
CALSCALE:GREGORIAN
METHOD:PUBLISH
X-ORIGINAL-URL:https://northriversing.org
X-WR-CALDESC:Events for North River Sing
REFRESH-INTERVAL;VALUE=DURATION:PT1H
X-Robots-Tag:noindex
X-PUBLISHED-TTL:PT1H
BEGIN:VTIMEZONE
TZID:America/New_York
BEGIN:DAYLIGHT
TZOFFSETFROM:-0500
TZOFFSETTO:-0400
TZNAME:EDT
DTSTART:20230312T070000
END:DAYLIGHT
BEGIN:STANDARD
TZOFFSETFROM:-0400
TZOFFSETTO:-0500
TZNAME:EST
DTSTART:20231105T060000
END:STANDARD
BEGIN:DAYLIGHT
TZOFFSETFROM:-0500
TZOFFSETTO:-0400
TZNAME:EDT
DTSTART:20240310T070000
END:DAYLIGHT
BEGIN:STANDARD
TZOFFSETFROM:-0400
TZOFFSETTO:-0500
TZNAME:EST
DTSTART:20241103T060000
END:STANDARD
BEGIN:DAYLIGHT
TZOFFSETFROM:-0500
TZOFFSETTO:-0400
TZNAME:EDT
DTSTART:20250309T070000
END:DAYLIGHT
BEGIN:STANDARD
TZOFFSETFROM:-0400
TZOFFSETTO:-0500
TZNAME:EST
DTSTART:20251102T060000
END:STANDARD
END:VTIMEZONE
BEGIN:VEVENT
DTSTART;TZID=America/New_York:20241102T180000
DTEND;TZID=America/New_York:20241102T220000
DTSTAMP:20260419T083835
CREATED:20240920T145719Z
LAST-MODIFIED:20240923T134057Z
UID:2394-1730570400-1730584800@northriversing.org
SUMMARY:North River Sing's 10th Anniversary Gala
DESCRIPTION:Add to calendar	\n		\n	\n\n		\n			\n									\n	Google Calendar\n\n									\n	iCalendar\n\n									\n	Outlook 365\n\n									\n	Outlook Live\n\n							\n		\n\n		\n	\n\n				\n				\n				\n		\n				\n				\n					\n	NRS at Hamilton Parkfest 2026				\n				\n				\n				\n					\n		\n			June 13\n\n	\n\n	  @  \n\n\n2:00 pm\n\n		\n\n\n\n	\n	  -  \n\n3:00 pm\n\n\n\n	\n				\n				\n				\n				\n									North River Sing will again take the stage at the annual Groove on Grove music showcase with a preview of our spring repertoire.  We look forward to seeing you there! 								\n				\n				\n				\n					\n				\n				\n	\n	Hamilton Park\n	\n	\n\n\n	Jersey City\,\n\n\n	07302\n\n\n\n\n\n	+ Google Map
URL:https://northriversing.org/event/nrs-10th-anniversary-fundraiser/
LOCATION:The Gallery at Liberty Prime\, 111 Montgomery St\, Jersey City\, NJ\, 07302\, United States
END:VEVENT
END:VCALENDAR